BEGIN:VCALENDAR
VERSION:2.0
PRODID:-//hacksw/handcal//NONSGML v1.0//EN
BEGIN:VEVENT
SUMMARY:Entrainement
UID:9d7c2bd3-ac5f-4839-81c0-c7232ff2b28f
DTSTART:20260310T090000Z
DTEND:20260310T130000Z
LOCATION:Localisation   
CATEGORIES:Sportif
STATUS:
DESCRIPTION:Entrainement pour toutes les equipes afin de preparer les
 prochains tournois.
URL;VALUE=URI:https://les-archers-diozoir.sportsregions.fr/evenements/2026/03/10/entrainement-2425615
END:VEVENT
END:VCALENDAR
